BEGIN:VCALENDAR
VERSION:2.0
PRODID:-//Joni Llamedo | Musician - ECPv6.15.3//NONSGML v1.0//EN
CALSCALE:GREGORIAN
METHOD:PUBLISH
X-WR-CALNAME:Joni Llamedo | Musician
X-ORIGINAL-URL:https://jonillamedo.com
X-WR-CALDESC:Events for Joni Llamedo | Musician
REFRESH-INTERVAL;VALUE=DURATION:PT1H
X-Robots-Tag:noindex
X-PUBLISHED-TTL:PT1H
BEGIN:VTIMEZONE
TZID:UTC
BEGIN:STANDARD
TZOFFSETFROM:+0000
TZOFFSETTO:+0000
TZNAME:UTC
DTSTART:20230101T000000
END:STANDARD
END:VTIMEZONE
BEGIN:VEVENT
DTSTART;TZID=UTC:20231216T000000
DTEND;TZID=UTC:20231216T235959
DTSTAMP:20260424T072242
CREATED:20231112T193114Z
LAST-MODIFIED:20231112T193114Z
UID:104-1702684800-1702771199@jonillamedo.com
SUMMARY:Sammy Johnson
DESCRIPTION:
URL:https://jonillamedo.com/event/sammy-johnson-6/
LOCATION:Ace of Spades\, 1417 R St\, Sacramento\, CA\, 95811\, United States
END:VEVENT
BEGIN:VEVENT
DTSTART;TZID=UTC:20231215T000000
DTEND;TZID=UTC:20231215T235959
DTSTAMP:20260424T072242
CREATED:20231112T192900Z
LAST-MODIFIED:20231112T192900Z
UID:101-1702598400-1702684799@jonillamedo.com
SUMMARY:Sammy Johnson
DESCRIPTION:
URL:https://jonillamedo.com/event/sammy-johnson-5/
LOCATION:The UC Theatre\, 2036 University Ave\, Berkley\, CA\, 94704\, United States
END:VEVENT
BEGIN:VEVENT
DTSTART;TZID=UTC:20231214T000000
DTEND;TZID=UTC:20231214T235959
DTSTAMP:20260424T072242
CREATED:20231112T191822Z
LAST-MODIFIED:20231112T191822Z
UID:98-1702512000-1702598399@jonillamedo.com
SUMMARY:Sammy Johnson
DESCRIPTION:
URL:https://jonillamedo.com/event/sammy-johnson-4/
LOCATION:The Catalyst\, 1011 Pacific Ave\, Santa Cruz\, CA\, 95060\, United States
END:VEVENT
BEGIN:VEVENT
DTSTART;TZID=UTC:20231209T000000
DTEND;TZID=UTC:20231209T235959
DTSTAMP:20260424T072242
CREATED:20231112T191513Z
LAST-MODIFIED:20231112T193542Z
UID:95-1702080000-1702166399@jonillamedo.com
SUMMARY:Sammy Johnson
DESCRIPTION:
URL:https://jonillamedo.com/event/sammy-johnson-3/
LOCATION:SAHARA Las Vegas\, 2535 S Las Vegas Blvd\, Las Vegas\, CA\, 89109\, United States
END:VEVENT
BEGIN:VEVENT
DTSTART;TZID=UTC:20231202T000000
DTEND;TZID=UTC:20231202T235959
DTSTAMP:20260424T072242
CREATED:20231112T191055Z
LAST-MODIFIED:20231112T191055Z
UID:92-1701475200-1701561599@jonillamedo.com
SUMMARY:Sammy Johnson
DESCRIPTION:
URL:https://jonillamedo.com/event/sammy-johnson-2/
LOCATION:Riverside Municipal Auditorium\, 3485 Mission Inn Ave\, Riverside\, CA\, 92501\, United States
END:VEVENT
BEGIN:VEVENT
DTSTART;TZID=UTC:20231128T173000
DTEND;TZID=UTC:20231128T204500
DTSTAMP:20260424T072242
CREATED:20231112T190529Z
LAST-MODIFIED:20231112T190529Z
UID:90-1701192600-1701204300@jonillamedo.com
SUMMARY:GCH Craftsman Bar
DESCRIPTION:
URL:https://jonillamedo.com/event/gch-craftsman-bar-2/
LOCATION:Disney’s Grand Californian Hotel\, 1600 S Disneyland Dr\, Anaheim\, CA\, 92802\, United States
END:VEVENT
BEGIN:VEVENT
DTSTART;TZID=UTC:20231124T000000
DTEND;TZID=UTC:20231124T235959
DTSTAMP:20260424T072242
CREATED:20231112T184825Z
LAST-MODIFIED:20231112T190623Z
UID:86-1700784000-1700870399@jonillamedo.com
SUMMARY:Sammy Johnson
DESCRIPTION:
URL:https://jonillamedo.com/event/sammy-johnson/
LOCATION:The Observatory North Park\, 2891 University Ave\, San Diego\, CA\, 92104\, United States
END:VEVENT
BEGIN:VEVENT
DTSTART;TZID=UTC:20231123T110000
DTEND;TZID=UTC:20231123T150000
DTSTAMP:20260424T072242
CREATED:20231112T183050Z
LAST-MODIFIED:20231112T193327Z
UID:83-1700737200-1700751600@jonillamedo.com
SUMMARY:Pelican Hill
DESCRIPTION:
URL:https://jonillamedo.com/event/pelican-hill/
LOCATION:Pelican Grill\, 22800 S Pelican Hill Rd\, Newport Coast\, CA\, 92657\, United States
END:VEVENT
BEGIN:VEVENT
DTSTART;TZID=UTC:20231122T173000
DTEND;TZID=UTC:20231122T204500
DTSTAMP:20260424T072242
CREATED:20231112T182614Z
LAST-MODIFIED:20231112T182614Z
UID:81-1700674200-1700685900@jonillamedo.com
SUMMARY:GCH Craftsman Bar
DESCRIPTION:
URL:https://jonillamedo.com/event/gch-craftsman-bar/
LOCATION:Disney’s Grand Californian Hotel\, 1600 S Disneyland Dr\, Anaheim\, CA\, 92802\, United States
END:VEVENT
BEGIN:VEVENT
DTSTART;TZID=UTC:20231115T173000
DTEND;TZID=UTC:20231115T204500
DTSTAMP:20260424T072242
CREATED:20231112T182326Z
LAST-MODIFIED:20231112T182434Z
UID:75-1700069400-1700081100@jonillamedo.com
SUMMARY:GCH Craftsman Bar
DESCRIPTION:
URL:https://jonillamedo.com/event/11-15-2023-gch-craftsman-bar/
LOCATION:Disney’s Grand Californian Hotel\, 1600 S Disneyland Dr\, Anaheim\, CA\, 92802\, United States
END:VEVENT
END:VCALENDAR