BEGIN:VCALENDAR
VERSION:2.0
PRODID:-//Joni Llamedo | Musician - ECPv6.15.3//NONSGML v1.0//EN
CALSCALE:GREGORIAN
METHOD:PUBLISH
X-ORIGINAL-URL:https://jonillamedo.com
X-WR-CALDESC:Events for Joni Llamedo | Musician
REFRESH-INTERVAL;VALUE=DURATION:PT1H
X-Robots-Tag:noindex
X-PUBLISHED-TTL:PT1H
BEGIN:VTIMEZONE
TZID:UTC
BEGIN:STANDARD
TZOFFSETFROM:+0000
TZOFFSETTO:+0000
TZNAME:UTC
DTSTART:20250101T000000
END:STANDARD
END:VTIMEZONE
BEGIN:VEVENT
DTSTART;TZID=UTC:20251017T000000
DTEND;TZID=UTC:20251017T235959
DTSTAMP:20260423T162406
CREATED:20250629T192302Z
LAST-MODIFIED:20250629T192302Z
UID:1543-1760659200-1760745599@jonillamedo.com
SUMMARY:PRIVATE EVENT - Fallbrook\, CA
DESCRIPTION:
URL:https://jonillamedo.com/event/private-event-fallbrook-ca/
LOCATION:CA
END:VEVENT
BEGIN:VEVENT
DTSTART;TZID=UTC:20251011T170000
DTEND;TZID=UTC:20251011T210000
DTSTAMP:20260423T162406
CREATED:20251002T042138Z
LAST-MODIFIED:20251002T042138Z
UID:1553-1760202000-1760216400@jonillamedo.com
SUMMARY:KAHANI - The Ritz-Carlton\, Laguna Niguel - Dana Point\, CA
DESCRIPTION:
URL:https://jonillamedo.com/event/kahani-the-ritz-carlton-laguna-niguel-dana-point-ca-14/
LOCATION:KAHANI\, 1 Ritz Carlton Dr\, Dana Point\, CA\, 92629\, United States
END:VEVENT
BEGIN:VEVENT
DTSTART;TZID=UTC:20251010T180000
DTEND;TZID=UTC:20251010T210000
DTSTAMP:20260423T162406
CREATED:20251002T042025Z
LAST-MODIFIED:20251002T042025Z
UID:1550-1760119200-1760130000@jonillamedo.com
SUMMARY:RAYA - The Ritz-Carlton\, Laguna Niguel - Dana Point\, CA
DESCRIPTION:
URL:https://jonillamedo.com/event/raya-the-ritz-carlton-laguna-niguel-dana-point-ca/
LOCATION:RAYA\, 1 Ritz Carlton Dr\, Dana Point\, CA\, 92629\, United States
END:VEVENT
BEGIN:VEVENT
DTSTART;TZID=UTC:20251009T180000
DTEND;TZID=UTC:20251009T210000
DTSTAMP:20260423T162406
CREATED:20251002T042835Z
LAST-MODIFIED:20251002T042835Z
UID:1561-1760032800-1760043600@jonillamedo.com
SUMMARY:City Club LA (Private Club) - Los Angeles\, CA
DESCRIPTION:
URL:https://jonillamedo.com/event/city-club-la-private-club-los-angeles-ca/
LOCATION:City Club LA\, 555 Flower St\, Los Angeles\, CA\, 90071\, United States
END:VEVENT
BEGIN:VEVENT
DTSTART;TZID=UTC:20251008T173000
DTEND;TZID=UTC:20251008T193000
DTSTAMP:20260423T162406
CREATED:20251002T042704Z
LAST-MODIFIED:20251002T042721Z
UID:1559-1759944600-1759951800@jonillamedo.com
SUMMARY:The Park Club California (Private Club) - Costa Mesa\, CA
DESCRIPTION:
URL:https://jonillamedo.com/event/the-park-club-california-private-club-costa-mesa-ca-3/
LOCATION:The Park Club California\, 650 Town Center Dr\, Costa Mesa\, CA\, 92626\, United States
END:VEVENT
BEGIN:VEVENT
DTSTART;TZID=UTC:20250928T000000
DTEND;TZID=UTC:20250928T235959
DTSTAMP:20260423T162406
CREATED:20250629T192129Z
LAST-MODIFIED:20250629T192129Z
UID:1540-1759017600-1759103999@jonillamedo.com
SUMMARY:Sammy Johnson - Holo Holo Sacramento - Sacramento\, CA
DESCRIPTION:
URL:https://jonillamedo.com/event/sammy-johnson-holo-holo-sacramento-sacramento-ca/
LOCATION:Heart Health Park at Cal Expo\, 1600 Exposition Blvd\, Sacramento\, CA\, 95815\, United States
END:VEVENT
BEGIN:VEVENT
DTSTART;TZID=UTC:20250926T170000
DTEND;TZID=UTC:20250926T210000
DTSTAMP:20260423T162406
CREATED:20250629T191631Z
LAST-MODIFIED:20250629T191631Z
UID:1538-1758906000-1758920400@jonillamedo.com
SUMMARY:KAHANI - The Ritz-Carlton\, Laguna Niguel - Dana Point\, CA
DESCRIPTION:
URL:https://jonillamedo.com/event/kahani-the-ritz-carlton-laguna-niguel-dana-point-ca-13/
LOCATION:KAHANI\, 1 Ritz Carlton Dr\, Dana Point\, CA\, 92629\, United States
END:VEVENT
BEGIN:VEVENT
DTSTART;TZID=UTC:20250913T170000
DTEND;TZID=UTC:20250913T210000
DTSTAMP:20260423T162406
CREATED:20250629T191506Z
LAST-MODIFIED:20250629T191506Z
UID:1536-1757782800-1757797200@jonillamedo.com
SUMMARY:KAHANI - The Ritz-Carlton\, Laguna Niguel - Dana Point\, CA
DESCRIPTION:
URL:https://jonillamedo.com/event/kahani-the-ritz-carlton-laguna-niguel-dana-point-ca-12/
LOCATION:KAHANI\, 1 Ritz Carlton Dr\, Dana Point\, CA\, 92629\, United States
END:VEVENT
BEGIN:VEVENT
DTSTART;TZID=UTC:20250906T170000
DTEND;TZID=UTC:20250906T210000
DTSTAMP:20260423T162406
CREATED:20250629T191211Z
LAST-MODIFIED:20250629T191211Z
UID:1534-1757178000-1757192400@jonillamedo.com
SUMMARY:KAHANI - The Ritz-Carlton\, Laguna Niguel - Dana Point\, CA
DESCRIPTION:
URL:https://jonillamedo.com/event/kahani-the-ritz-carlton-laguna-niguel-dana-point-ca-11/
LOCATION:KAHANI\, 1 Ritz Carlton Dr\, Dana Point\, CA\, 92629\, United States
END:VEVENT
BEGIN:VEVENT
DTSTART;TZID=UTC:20250826T120000
DTEND;TZID=UTC:20250826T163000
DTSTAMP:20260423T162406
CREATED:20250629T190410Z
LAST-MODIFIED:20250629T190410Z
UID:1532-1756209600-1756225800@jonillamedo.com
SUMMARY:Disney's Grand Californian (Pool Deck) - Anaheim\, CA
DESCRIPTION:
URL:https://jonillamedo.com/event/disneys-grand-californian-pool-deck-anaheim-ca-7/
LOCATION:Disney’s Grand Californian Hotel\, 1600 S Disneyland Dr\, Anaheim\, CA\, 92802\, United States
END:VEVENT
BEGIN:VEVENT
DTSTART;TZID=UTC:20250823T170000
DTEND;TZID=UTC:20250823T200000
DTSTAMP:20260423T162406
CREATED:20250629T185627Z
LAST-MODIFIED:20250629T185627Z
UID:1530-1755968400-1755979200@jonillamedo.com
SUMMARY:180blu - The Ritz-Carlton\, Laguna Niguel - Dana Point\, CA
DESCRIPTION:
URL:https://jonillamedo.com/event/180blu-the-ritz-carlton-laguna-niguel-dana-point-ca-4/
LOCATION:180blu Restaurant\, 1 Ritz Carlton Dr\, Dana Point\, CA\, 92629\, United States
END:VEVENT
BEGIN:VEVENT
DTSTART;TZID=UTC:20250821T120000
DTEND;TZID=UTC:20250821T163000
DTSTAMP:20260423T162406
CREATED:20250629T184700Z
LAST-MODIFIED:20250629T184700Z
UID:1528-1755777600-1755793800@jonillamedo.com
SUMMARY:Disney's Grand Californian (Pool Deck) - Anaheim\, CA
DESCRIPTION:
URL:https://jonillamedo.com/event/disneys-grand-californian-pool-deck-anaheim-ca-6/
LOCATION:Disney’s Grand Californian Hotel\, 1600 S Disneyland Dr\, Anaheim\, CA\, 92802\, United States
END:VEVENT
BEGIN:VEVENT
DTSTART;TZID=UTC:20250817T120000
DTEND;TZID=UTC:20250817T160000
DTSTAMP:20260423T162406
CREATED:20250505T235446Z
LAST-MODIFIED:20250505T235446Z
UID:1488-1755432000-1755446400@jonillamedo.com
SUMMARY:The Loft at Montage - Laguna Beach\, CA
DESCRIPTION:
URL:https://jonillamedo.com/event/the-loft-at-montage-laguna-beach-ca-3/
LOCATION:The Loft at Montage Laguna Beach\, 30801 S Coast Hwy\, Laguna Beach\, CA\, 92651\, United States
END:VEVENT
BEGIN:VEVENT
DTSTART;TZID=UTC:20250816T170000
DTEND;TZID=UTC:20250816T210000
DTSTAMP:20260423T162406
CREATED:20250629T165601Z
LAST-MODIFIED:20250629T165601Z
UID:1523-1755363600-1755378000@jonillamedo.com
SUMMARY:KAHANI - The Ritz-Carlton\, Laguna Niguel - Dana Point\, CA
DESCRIPTION:
URL:https://jonillamedo.com/event/kahani-the-ritz-carlton-laguna-niguel-dana-point-ca-10/
LOCATION:CA
END:VEVENT
BEGIN:VEVENT
DTSTART;TZID=UTC:20250815T120000
DTEND;TZID=UTC:20250815T163000
DTSTAMP:20260423T162406
CREATED:20250629T171431Z
LAST-MODIFIED:20250629T171431Z
UID:1526-1755259200-1755275400@jonillamedo.com
SUMMARY:Disney's Grand Californian (Pool Deck) - Anaheim\, CA
DESCRIPTION:
URL:https://jonillamedo.com/event/disneys-grand-californian-pool-deck-anaheim-ca-5/
LOCATION:Disney’s Grand Californian Hotel\, 1600 S Disneyland Dr\, Anaheim\, CA\, 92802\, United States
END:VEVENT
BEGIN:VEVENT
DTSTART;TZID=UTC:20250807T120000
DTEND;TZID=UTC:20250807T163000
DTSTAMP:20260423T162406
CREATED:20250629T165313Z
LAST-MODIFIED:20250629T165419Z
UID:1520-1754568000-1754584200@jonillamedo.com
SUMMARY:Disney's Grand Californian (Pool Deck) - Anaheim\, CA
DESCRIPTION:
URL:https://jonillamedo.com/event/disneys-grand-californian-pool-deck-anaheim-ca-4/
LOCATION:Disney’s Grand Californian Hotel\, 1600 S Disneyland Dr\, Anaheim\, CA\, 92802\, United States
END:VEVENT
BEGIN:VEVENT
DTSTART;TZID=UTC:20250802T170000
DTEND;TZID=UTC:20250802T210000
DTSTAMP:20260423T162406
CREATED:20250629T165206Z
LAST-MODIFIED:20250629T165206Z
UID:1518-1754154000-1754168400@jonillamedo.com
SUMMARY:KAHANI - The Ritz-Carlton\, Laguna Niguel - Dana Point\, CA
DESCRIPTION:
URL:https://jonillamedo.com/event/kahani-the-ritz-carlton-laguna-niguel-dana-point-ca-9/
LOCATION:KAHANI\, 1 Ritz Carlton Dr\, Dana Point\, CA\, 92629\, United States
END:VEVENT
BEGIN:VEVENT
DTSTART;TZID=UTC:20250729T120000
DTEND;TZID=UTC:20250729T163000
DTSTAMP:20260423T162406
CREATED:20250629T165049Z
LAST-MODIFIED:20250629T165049Z
UID:1516-1753790400-1753806600@jonillamedo.com
SUMMARY:Disney's Grand Californian (Pool Deck) - Anaheim\, CA
DESCRIPTION:
URL:https://jonillamedo.com/event/disneys-grand-californian-pool-deck-anaheim-ca-3/
LOCATION:Disney’s Grand Californian Hotel\, 1600 S Disneyland Dr\, Anaheim\, CA\, 92802\, United States
END:VEVENT
BEGIN:VEVENT
DTSTART;TZID=UTC:20250726T170000
DTEND;TZID=UTC:20250726T210000
DTSTAMP:20260423T162406
CREATED:20250629T164917Z
LAST-MODIFIED:20250629T164917Z
UID:1514-1753549200-1753563600@jonillamedo.com
SUMMARY:KAHANI - The Ritz-Carlton\, Laguna Niguel - Dana Point\, CA
DESCRIPTION:
URL:https://jonillamedo.com/event/kahani-the-ritz-carlton-laguna-niguel-dana-point-ca-8/
LOCATION:KAHANI\, 1 Ritz Carlton Dr\, Dana Point\, CA\, 92629\, United States
END:VEVENT
BEGIN:VEVENT
DTSTART;TZID=UTC:20250725T170000
DTEND;TZID=UTC:20250725T200000
DTSTAMP:20260423T162406
CREATED:20250629T164702Z
LAST-MODIFIED:20250629T164702Z
UID:1511-1753462800-1753473600@jonillamedo.com
SUMMARY:180blu - The Ritz-Carlton\, Laguna Niguel - Dana Point\, CA
DESCRIPTION:
URL:https://jonillamedo.com/event/180blu-the-ritz-carlton-laguna-niguel-dana-point-ca-3/
LOCATION:180blu Restaurant\, 1 Ritz Carlton Dr\, Dana Point\, CA\, 92629\, United States
END:VEVENT
BEGIN:VEVENT
DTSTART;TZID=UTC:20250724T120000
DTEND;TZID=UTC:20250724T163000
DTSTAMP:20260423T162406
CREATED:20250629T164526Z
LAST-MODIFIED:20250629T164526Z
UID:1509-1753358400-1753374600@jonillamedo.com
SUMMARY:Disney's Grand Californian (Pool Deck) - Anaheim\, CA
DESCRIPTION:
URL:https://jonillamedo.com/event/disneys-grand-californian-pool-deck-anaheim-ca-2/
LOCATION:Disney’s Grand Californian Hotel\, 1600 S Disneyland Dr\, Anaheim\, CA\, 92802\, United States
END:VEVENT
BEGIN:VEVENT
DTSTART;TZID=UTC:20250719T000000
DTEND;TZID=UTC:20250719T235959
DTSTAMP:20260423T162406
CREATED:20250629T164335Z
LAST-MODIFIED:20250629T185134Z
UID:1506-1752883200-1752969599@jonillamedo.com
SUMMARY:Sammy Johnson - Suquamish Clearwater Casino - Suquamish\, WA
DESCRIPTION:
URL:https://jonillamedo.com/event/sammy-johnson-suquamish-clearwater-casino-suquamish-wa/
LOCATION:Suquamish Clearwater Casino\, 15347 Suquamish Way NE\, Suquamish\, WA\, 98392\, United States
END:VEVENT
BEGIN:VEVENT
DTSTART;TZID=UTC:20250717T120000
DTEND;TZID=UTC:20250717T163000
DTSTAMP:20260423T162406
CREATED:20250629T163624Z
LAST-MODIFIED:20250629T163624Z
UID:1504-1752753600-1752769800@jonillamedo.com
SUMMARY:Disney's Grand Californian (Pool Deck) - Anaheim\, CA
DESCRIPTION:
URL:https://jonillamedo.com/event/disneys-grand-californian-pool-deck-anaheim-ca/
LOCATION:Disney’s Grand Californian Hotel\, 1600 S Disneyland Dr\, Anaheim\, CA\, 92802\, United States
END:VEVENT
BEGIN:VEVENT
DTSTART;TZID=UTC:20250713T120000
DTEND;TZID=UTC:20250713T160000
DTSTAMP:20260423T162406
CREATED:20250505T235313Z
LAST-MODIFIED:20250505T235313Z
UID:1486-1752408000-1752422400@jonillamedo.com
SUMMARY:The Loft at Montage - Laguna Beach\, CA
DESCRIPTION:
URL:https://jonillamedo.com/event/the-loft-at-montage-laguna-beach-ca-2/
LOCATION:The Loft at Montage Laguna Beach\, 30801 S Coast Hwy\, Laguna Beach\, CA\, 92651\, United States
END:VEVENT
BEGIN:VEVENT
DTSTART;TZID=UTC:20250711T170000
DTEND;TZID=UTC:20250711T210000
DTSTAMP:20260423T162406
CREATED:20250629T163434Z
LAST-MODIFIED:20250629T164720Z
UID:1502-1752253200-1752267600@jonillamedo.com
SUMMARY:KAHANI - The Ritz-Carlton\, Laguna Niguel - Dana Point\, CA
DESCRIPTION:
URL:https://jonillamedo.com/event/kahani-ritz-carlton-laguna-niguel-dana-point-ca-4/
LOCATION:KAHANI\, 1 Ritz Carlton Dr\, Dana Point\, CA\, 92629\, United States
END:VEVENT
BEGIN:VEVENT
DTSTART;TZID=UTC:20250710T120000
DTEND;TZID=UTC:20250710T163000
DTSTAMP:20260423T162406
CREATED:20250629T163019Z
LAST-MODIFIED:20250629T163305Z
UID:1495-1752148800-1752165000@jonillamedo.com
SUMMARY:Disney's Grand Californian (Pool Deck) - Anaheim\, CA
DESCRIPTION:
URL:https://jonillamedo.com/event/disneys-grand-californian-pool-deck-2/
LOCATION:Disney’s Grand Californian Hotel\, 1600 S Disneyland Dr\, Anaheim\, CA\, 92802\, United States
END:VEVENT
BEGIN:VEVENT
DTSTART;TZID=UTC:20250701T120000
DTEND;TZID=UTC:20250701T163000
DTSTAMP:20260423T162406
CREATED:20250629T162849Z
LAST-MODIFIED:20250629T163229Z
UID:1493-1751371200-1751387400@jonillamedo.com
SUMMARY:Disney's Grand Californian (Pool Deck) - Anaheim\, CA
DESCRIPTION:
URL:https://jonillamedo.com/event/disneys-grand-californian-pool-deck/
LOCATION:Disney’s Grand Californian Hotel\, 1600 S Disneyland Dr\, Anaheim\, CA\, 92802\, United States
END:VEVENT
BEGIN:VEVENT
DTSTART;TZID=UTC:20250628T170000
DTEND;TZID=UTC:20250628T210000
DTSTAMP:20260423T162406
CREATED:20250415T031120Z
LAST-MODIFIED:20250415T031120Z
UID:1469-1751130000-1751144400@jonillamedo.com
SUMMARY:KAHANI - The Ritz-Carlton Laguna Niguel - Dana Point\, CA
DESCRIPTION:
URL:https://jonillamedo.com/event/kahani-the-ritz-carlton-laguna-niguel-dana-point-ca-7/
LOCATION:KAHANI\, 1 Ritz Carlton Dr\, Dana Point\, CA\, 92629\, United States
END:VEVENT
BEGIN:VEVENT
DTSTART;TZID=UTC:20250622T120000
DTEND;TZID=UTC:20250622T160000
DTSTAMP:20260423T162406
CREATED:20250505T235200Z
LAST-MODIFIED:20250505T235200Z
UID:1483-1750593600-1750608000@jonillamedo.com
SUMMARY:The Loft at Montage - Laguna Beach\, CA
DESCRIPTION:
URL:https://jonillamedo.com/event/the-loft-at-montage-laguna-beach-ca/
LOCATION:The Loft at Montage Laguna Beach\, 30801 S Coast Hwy\, Laguna Beach\, CA\, 92651\, United States
END:VEVENT
BEGIN:VEVENT
DTSTART;TZID=UTC:20250620T160000
DTEND;TZID=UTC:20250620T190000
DTSTAMP:20260423T162406
CREATED:20250415T031012Z
LAST-MODIFIED:20250415T031012Z
UID:1467-1750435200-1750446000@jonillamedo.com
SUMMARY:180blu - The Ritz-Carlton\, Laguna Niguel - Dana Point\, CA
DESCRIPTION:
URL:https://jonillamedo.com/event/180blu-the-ritz-carlton-laguna-niguel-dana-point-ca-2/
LOCATION:180blu Restaurant\, 1 Ritz Carlton Dr\, Dana Point\, CA\, 92629\, United States
END:VEVENT
END:VCALENDAR