BEGIN:VCALENDAR
VERSION:2.0
PRODID:-//Joni Llamedo | Musician - ECPv6.15.3//NONSGML v1.0//EN
CALSCALE:GREGORIAN
METHOD:PUBLISH
X-WR-CALNAME:Joni Llamedo | Musician
X-ORIGINAL-URL:https://jonillamedo.com
X-WR-CALDESC:Events for Joni Llamedo | Musician
REFRESH-INTERVAL;VALUE=DURATION:PT1H
X-Robots-Tag:noindex
X-PUBLISHED-TTL:PT1H
BEGIN:VTIMEZONE
TZID:UTC
BEGIN:STANDARD
TZOFFSETFROM:+0000
TZOFFSETTO:+0000
TZNAME:UTC
DTSTART:20250101T000000
END:STANDARD
END:VTIMEZONE
BEGIN:VEVENT
DTSTART;TZID=UTC:20250513T173000
DTEND;TZID=UTC:20250513T204500
DTSTAMP:20260423T203719
CREATED:20250415T025401Z
LAST-MODIFIED:20250505T234248Z
UID:1463-1747157400-1747169100@jonillamedo.com
SUMMARY:The Disneyland Hotel - Palm Breeze Bar - Anaheim\, CA
DESCRIPTION:
URL:https://jonillamedo.com/event/the-disneyland-hotel-broken-spell-lounge-anaheim-ca/
LOCATION:Palm Breeze Bar\, 1150 W Magic Way\, Anaheim\, CA\, 92802\, United States
END:VEVENT
BEGIN:VEVENT
DTSTART;TZID=UTC:20250512T000000
DTEND;TZID=UTC:20250512T235959
DTSTAMP:20260423T203719
CREATED:20250415T022550Z
LAST-MODIFIED:20250415T022550Z
UID:1453-1747008000-1747094399@jonillamedo.com
SUMMARY:PRIVATE EVENT
DESCRIPTION:
URL:https://jonillamedo.com/event/private-event-6/
LOCATION:CA
END:VEVENT
BEGIN:VEVENT
DTSTART;TZID=UTC:20250510T170000
DTEND;TZID=UTC:20250510T210000
DTSTAMP:20260423T203719
CREATED:20250415T022106Z
LAST-MODIFIED:20250415T022106Z
UID:1451-1746896400-1746910800@jonillamedo.com
SUMMARY:KAHANI - The Ritz-Carlton\, Laguna Niguel - Dana Point\, CA
DESCRIPTION:
URL:https://jonillamedo.com/event/kahani-the-ritz-carlton-laguna-niguel-dana-point-ca-5/
LOCATION:KAHANI\, 1 Ritz Carlton Dr\, Dana Point\, CA\, 92629\, United States
END:VEVENT
BEGIN:VEVENT
DTSTART;TZID=UTC:20250509T000000
DTEND;TZID=UTC:20250509T235959
DTSTAMP:20260423T203719
CREATED:20250415T021849Z
LAST-MODIFIED:20250415T021849Z
UID:1448-1746748800-1746835199@jonillamedo.com
SUMMARY:PRIVATE EVENT
DESCRIPTION:
URL:https://jonillamedo.com/event/private-event-5/
LOCATION:Orange\, CA
END:VEVENT
BEGIN:VEVENT
DTSTART;TZID=UTC:20250505T000000
DTEND;TZID=UTC:20250505T235959
DTSTAMP:20260423T203719
CREATED:20250505T234357Z
LAST-MODIFIED:20250505T234429Z
UID:1475-1746403200-1746489599@jonillamedo.com
SUMMARY:PRIVATE EVENT
DESCRIPTION:
URL:https://jonillamedo.com/event/private-event-dana-point-ca/
LOCATION:Dana Point\, CA
END:VEVENT
BEGIN:VEVENT
DTSTART;TZID=UTC:20250502T160000
DTEND;TZID=UTC:20250502T190000
DTSTAMP:20260423T203719
CREATED:20250415T021725Z
LAST-MODIFIED:20250415T021725Z
UID:1446-1746201600-1746212400@jonillamedo.com
SUMMARY:180blu - The Ritz-Carlton\, Laguna Niguel - Dana Point\, CA
DESCRIPTION:
URL:https://jonillamedo.com/event/180blu-the-ritz-carlton-laguna-niguel-dana-point-ca/
LOCATION:180blu Restaurant\, 1 Ritz Carlton Dr\, Dana Point\, CA\, 92629\, United States
END:VEVENT
BEGIN:VEVENT
DTSTART;TZID=UTC:20250430T173000
DTEND;TZID=UTC:20250430T193000
DTSTAMP:20260423T203719
CREATED:20250415T021417Z
LAST-MODIFIED:20250415T021417Z
UID:1444-1746034200-1746041400@jonillamedo.com
SUMMARY:The Park Club California - Costa Mesa\, CA
DESCRIPTION:
URL:https://jonillamedo.com/event/the-park-club-california-costa-mesa-ca-6/
LOCATION:The Park Club California\, 650 Town Center Dr\, Costa Mesa\, CA\, 92626\, United States
END:VEVENT
BEGIN:VEVENT
DTSTART;TZID=UTC:20250426T000000
DTEND;TZID=UTC:20250426T235959
DTSTAMP:20260423T203719
CREATED:20250415T021255Z
LAST-MODIFIED:20250415T021255Z
UID:1441-1745625600-1745711999@jonillamedo.com
SUMMARY:PRIVATE EVENT
DESCRIPTION:
URL:https://jonillamedo.com/event/private-event-4/
LOCATION:Yorba Linda\, CA
END:VEVENT
BEGIN:VEVENT
DTSTART;TZID=UTC:20250424T190000
DTEND;TZID=UTC:20250424T210000
DTSTAMP:20260423T203719
CREATED:20250303T162047Z
LAST-MODIFIED:20250303T162047Z
UID:1423-1745521200-1745528400@jonillamedo.com
SUMMARY:Figueroa Eight - Los Angeles\, CA
DESCRIPTION:
URL:https://jonillamedo.com/event/figueroa-eight-los-angeles-ca-2/
LOCATION:Figueroa Eight\, 744 S Figueroa St.\, Los Angeles\, CA\, 90017\, United States
END:VEVENT
BEGIN:VEVENT
DTSTART;TZID=UTC:20250419T000000
DTEND;TZID=UTC:20250419T235959
DTSTAMP:20260423T203719
CREATED:20250415T020754Z
LAST-MODIFIED:20250415T021002Z
UID:1438-1745020800-1745107199@jonillamedo.com
SUMMARY:Sammy Johnson - Pure Aloha Festival - Las Vegas\, NV
DESCRIPTION:
URL:https://jonillamedo.com/event/sammy-johnson-pure-aloha-festival-las-vegas-nv/
LOCATION:Desert Breeze Park Event Center\, 8275 Spring Mountain Rd\, Las Vegas\, NV\, 89117\, United States
END:VEVENT
BEGIN:VEVENT
DTSTART;TZID=UTC:20250417T190000
DTEND;TZID=UTC:20250417T210000
DTSTAMP:20260423T203719
CREATED:20250303T161820Z
LAST-MODIFIED:20250303T161820Z
UID:1420-1744916400-1744923600@jonillamedo.com
SUMMARY:Figueroa Eight - Los Angeles\, CA
DESCRIPTION:
URL:https://jonillamedo.com/event/figueroa-eight-los-angeles-ca/
LOCATION:Figueroa Eight\, 744 S Figueroa St.\, Los Angeles\, CA\, 90017\, United States
END:VEVENT
BEGIN:VEVENT
DTSTART;TZID=UTC:20250416T173000
DTEND;TZID=UTC:20250416T193000
DTSTAMP:20260423T203719
CREATED:20250415T020355Z
LAST-MODIFIED:20250415T020416Z
UID:1436-1744824600-1744831800@jonillamedo.com
SUMMARY:The Park Club California - Costa Mesa\, CA
DESCRIPTION:
URL:https://jonillamedo.com/event/the-park-club-california-costa-mesa-ca-5/
LOCATION:The Park Club California\, 650 Town Center Dr\, Costa Mesa\, CA\, 92626\, United States
END:VEVENT
BEGIN:VEVENT
DTSTART;TZID=UTC:20250415T173000
DTEND;TZID=UTC:20250415T204500
DTSTAMP:20260423T203719
CREATED:20250303T162422Z
LAST-MODIFIED:20250415T020147Z
UID:1425-1744738200-1744749900@jonillamedo.com
SUMMARY:The Disneyland Hotel - Broken Spell Lounge - Anaheim\, CA
DESCRIPTION:
URL:https://jonillamedo.com/event/the-disneyland-hotel-palm-breeze-bar-2/
LOCATION:Palm Breeze Bar\, 1150 W Magic Way\, Anaheim\, CA\, 92802\, United States
END:VEVENT
BEGIN:VEVENT
DTSTART;TZID=UTC:20250402T173000
DTEND;TZID=UTC:20250402T193000
DTSTAMP:20260423T203719
CREATED:20250216T220608Z
LAST-MODIFIED:20250303T160954Z
UID:1406-1743615000-1743622200@jonillamedo.com
SUMMARY:The Park Club California (Private Club) - Costa Mesa\, CA
DESCRIPTION:
URL:https://jonillamedo.com/event/the-park-club-california-costa-mesa-ca-4/
LOCATION:The Park Club California\, 650 Town Center Dr\, Costa Mesa\, CA\, 92626\, United States
END:VEVENT
BEGIN:VEVENT
DTSTART;TZID=UTC:20250326T173000
DTEND;TZID=UTC:20250326T193000
DTSTAMP:20260423T203719
CREATED:20250216T220444Z
LAST-MODIFIED:20250303T161016Z
UID:1404-1743010200-1743017400@jonillamedo.com
SUMMARY:The Park Club California (Private Club) - Costa Mesa\, CA
DESCRIPTION:
URL:https://jonillamedo.com/event/the-park-club-california-costa-mesa-ca-3/
LOCATION:The Park Club California\, 650 Town Center Dr\, Costa Mesa\, CA\, 92626\, United States
END:VEVENT
BEGIN:VEVENT
DTSTART;TZID=UTC:20250319T173000
DTEND;TZID=UTC:20250319T193000
DTSTAMP:20260423T203719
CREATED:20250216T220228Z
LAST-MODIFIED:20250303T161032Z
UID:1402-1742405400-1742412600@jonillamedo.com
SUMMARY:The Park Club California (Private Club) - Costa Mesa\, CA
DESCRIPTION:
URL:https://jonillamedo.com/event/the-park-club-california-costa-mesa-ca-2/
LOCATION:The Park Club California\, 650 Town Center Dr\, Costa Mesa\, CA\, 92626\, United States
END:VEVENT
BEGIN:VEVENT
DTSTART;TZID=UTC:20250315T170000
DTEND;TZID=UTC:20250315T210000
DTSTAMP:20260423T203719
CREATED:20250309T144533Z
LAST-MODIFIED:20250309T144533Z
UID:1430-1742058000-1742072400@jonillamedo.com
SUMMARY:KAHANI - The Ritz-Carlton\, Laguna Niguel - Dana Point\, CA
DESCRIPTION:Chit\, Chaat & Chai \nStep into a world of vibrant colors and rich flavors as the resort kicks off an afternoon tea series in KAHANI with a Holi celebration on March 15\, continuing every Saturday throughout April 19.
URL:https://jonillamedo.com/event/kahani-the-ritz-carlton-laguna-niguel-dana-point-ca-4/
LOCATION:KAHANI\, 1 Ritz Carlton Dr\, Dana Point\, CA\, 92629\, United States
END:VEVENT
BEGIN:VEVENT
DTSTART;TZID=UTC:20250314T173000
DTEND;TZID=UTC:20250314T204500
DTSTAMP:20260423T203719
CREATED:20250216T215610Z
LAST-MODIFIED:20250303T163447Z
UID:1398-1741973400-1741985100@jonillamedo.com
SUMMARY:The Disneyland Hotel - Palm Breeze Bar - Anaheim\, CA
DESCRIPTION:
URL:https://jonillamedo.com/event/the-disneyland-hotel-palm-breeze-bar/
LOCATION:Palm Breeze Bar\, 1150 W Magic Way\, Anaheim\, CA\, 92802\, United States
END:VEVENT
BEGIN:VEVENT
DTSTART;TZID=UTC:20250312T173000
DTEND;TZID=UTC:20250312T193000
DTSTAMP:20260423T203719
CREATED:20250216T215327Z
LAST-MODIFIED:20250303T161108Z
UID:1396-1741800600-1741807800@jonillamedo.com
SUMMARY:The Park Club California (Private Club) - Costa Mesa\, CA
DESCRIPTION:
URL:https://jonillamedo.com/event/the-park-club-california-costa-mesa-ca/
LOCATION:The Park Club California\, 650 Town Center Dr\, Costa Mesa\, CA\, 92626\, United States
END:VEVENT
BEGIN:VEVENT
DTSTART;TZID=UTC:20250309T000000
DTEND;TZID=UTC:20250309T235959
DTSTAMP:20260423T203719
CREATED:20250216T215155Z
LAST-MODIFIED:20250216T215206Z
UID:1394-1741478400-1741564799@jonillamedo.com
SUMMARY:PRIVATE EVENT - Newport Beach\, CA
DESCRIPTION:
URL:https://jonillamedo.com/event/private-event-newport-beach-ca-3/
LOCATION:CA
END:VEVENT
BEGIN:VEVENT
DTSTART;TZID=UTC:20250305T173000
DTEND;TZID=UTC:20250305T193000
DTSTAMP:20260423T203719
CREATED:20250216T214727Z
LAST-MODIFIED:20250303T161052Z
UID:1389-1741195800-1741203000@jonillamedo.com
SUMMARY:The Park Club California (Private Club) - Costa Mesa\, CA
DESCRIPTION:
URL:https://jonillamedo.com/event/park-club-california-costa-mesa-ca-2/
LOCATION:The Park Club California\, 650 Town Center Dr\, Costa Mesa\, CA\, 92626\, United States
END:VEVENT
BEGIN:VEVENT
DTSTART;TZID=UTC:20250301T170000
DTEND;TZID=UTC:20250301T210000
DTSTAMP:20260423T203719
CREATED:20250216T214621Z
LAST-MODIFIED:20250216T214621Z
UID:1387-1740848400-1740862800@jonillamedo.com
SUMMARY:KAHANI - Ritz-Carlton\, Laguna Niguel - Dana Point\, CA
DESCRIPTION:
URL:https://jonillamedo.com/event/kahani-ritz-carlton-laguna-niguel-dana-point-ca-3/
LOCATION:KAHANI\, 1 Ritz Carlton Dr\, Dana Point\, CA\, 92629\, United States
END:VEVENT
BEGIN:VEVENT
DTSTART;TZID=UTC:20250228T173000
DTEND;TZID=UTC:20250228T204500
DTSTAMP:20260423T203719
CREATED:20250124T203739Z
LAST-MODIFIED:20250303T163506Z
UID:1381-1740763800-1740775500@jonillamedo.com
SUMMARY:Grand Californian Hotel - Craftsman Bar - Anaheim\, CA
DESCRIPTION:
URL:https://jonillamedo.com/event/grand-californian-hotel-craftsman-bar/
LOCATION:Disney’s Grand Californian Hotel\, 1600 S Disneyland Dr\, Anaheim\, CA\, 92802\, United States
END:VEVENT
BEGIN:VEVENT
DTSTART;TZID=UTC:20250226T173000
DTEND;TZID=UTC:20250226T193000
DTSTAMP:20260423T203719
CREATED:20250216T214411Z
LAST-MODIFIED:20250216T214836Z
UID:1384-1740591000-1740598200@jonillamedo.com
SUMMARY:The Park Club California - Costa Mesa\, CA
DESCRIPTION:
URL:https://jonillamedo.com/event/park-club-california-costa-mesa-ca/
LOCATION:The Park Club California\, 650 Town Center Dr\, Costa Mesa\, CA\, 92626\, United States
END:VEVENT
BEGIN:VEVENT
DTSTART;TZID=UTC:20250222T170000
DTEND;TZID=UTC:20250222T210000
DTSTAMP:20260423T203719
CREATED:20250124T203231Z
LAST-MODIFIED:20250124T203231Z
UID:1379-1740243600-1740258000@jonillamedo.com
SUMMARY:KAHANI - Ritz-Carlton\, Laguna Niguel - Dana Point\, CA
DESCRIPTION:
URL:https://jonillamedo.com/event/kahani-ritz-carlton-laguna-niguel-dana-point-ca-2/
LOCATION:KAHANI\, 1 Ritz Carlton Dr\, Dana Point\, CA\, 92629\, United States
END:VEVENT
BEGIN:VEVENT
DTSTART;TZID=UTC:20250215T000000
DTEND;TZID=UTC:20250215T235959
DTSTAMP:20260423T203719
CREATED:20250124T201821Z
LAST-MODIFIED:20250124T201821Z
UID:1377-1739577600-1739663999@jonillamedo.com
SUMMARY:KAHANI - Ritz-Carlton\, Laguna Niguel - Dana Point\, CA
DESCRIPTION:
URL:https://jonillamedo.com/event/kahani-ritz-carlton-laguna-niguel-dana-point-ca/
LOCATION:KAHANI\, 1 Ritz Carlton Dr\, Dana Point\, CA\, 92629\, United States
END:VEVENT
BEGIN:VEVENT
DTSTART;TZID=UTC:20250214T000000
DTEND;TZID=UTC:20250214T235959
DTSTAMP:20260423T203719
CREATED:20250124T200552Z
LAST-MODIFIED:20250124T200713Z
UID:1374-1739491200-1739577599@jonillamedo.com
SUMMARY:Private Event - Newport Beach\, CA
DESCRIPTION:
URL:https://jonillamedo.com/event/private-event-newport-beach-ca-2/
LOCATION:CA
END:VEVENT
BEGIN:VEVENT
DTSTART;TZID=UTC:20250213T000000
DTEND;TZID=UTC:20250213T235959
DTSTAMP:20260423T203719
CREATED:20250124T200236Z
LAST-MODIFIED:20250124T200236Z
UID:1372-1739404800-1739491199@jonillamedo.com
SUMMARY:Private Event - Orange\, CA
DESCRIPTION:
URL:https://jonillamedo.com/event/private-event-orange-ca/
LOCATION:CA
END:VEVENT
BEGIN:VEVENT
DTSTART;TZID=UTC:20250208T170000
DTEND;TZID=UTC:20250208T210000
DTSTAMP:20260423T203719
CREATED:20250124T195353Z
LAST-MODIFIED:20250124T195353Z
UID:1370-1739034000-1739048400@jonillamedo.com
SUMMARY:KAHANI - The Ritz-Carlton\, Laguna Niguel - Dana Point\, CA
DESCRIPTION:
URL:https://jonillamedo.com/event/kahani-the-ritz-carlton-laguna-niguel-dana-point-ca-3/
LOCATION:KAHANI\, 1 Ritz Carlton Dr\, Dana Point\, CA\, 92629\, United States
END:VEVENT
BEGIN:VEVENT
DTSTART;TZID=UTC:20250205T000000
DTEND;TZID=UTC:20250205T235959
DTSTAMP:20260423T203719
CREATED:20250124T194646Z
LAST-MODIFIED:20250124T194646Z
UID:1368-1738713600-1738799999@jonillamedo.com
SUMMARY:Private Wedding - Anaheim\, CA
DESCRIPTION:
URL:https://jonillamedo.com/event/private-wedding-anaheim-ca/
LOCATION:CA
END:VEVENT
END:VCALENDAR