BEGIN:VCALENDAR
VERSION:2.0
PRODID:-//Joni Llamedo | Musician - ECPv6.15.3//NONSGML v1.0//EN
CALSCALE:GREGORIAN
METHOD:PUBLISH
X-WR-CALNAME:Joni Llamedo | Musician
X-ORIGINAL-URL:https://jonillamedo.com
X-WR-CALDESC:Events for Joni Llamedo | Musician
REFRESH-INTERVAL;VALUE=DURATION:PT1H
X-Robots-Tag:noindex
X-PUBLISHED-TTL:PT1H
BEGIN:VTIMEZONE
TZID:UTC
BEGIN:STANDARD
TZOFFSETFROM:+0000
TZOFFSETTO:+0000
TZNAME:UTC
DTSTART:20240101T000000
END:STANDARD
END:VTIMEZONE
BEGIN:VEVENT
DTSTART;TZID=UTC:20250124T000000
DTEND;TZID=UTC:20250124T235959
DTSTAMP:20260424T003813
CREATED:20241117T200125Z
LAST-MODIFIED:20241117T200125Z
UID:1350-1737676800-1737763199@jonillamedo.com
SUMMARY:Sammy Johnson - da Playground Maui - Wailuku\, HI
DESCRIPTION:
URL:https://jonillamedo.com/event/sammy-johnson-da-playground-maui-wailuku-hi/
LOCATION:da Playground Maui\, 300 Maalaea Rd Suite IC\, Wailuku\, HI\, 96793\, United States
END:VEVENT
BEGIN:VEVENT
DTSTART;TZID=UTC:20241214T170000
DTEND;TZID=UTC:20241214T210000
DTSTAMP:20260424T003813
CREATED:20241117T195543Z
LAST-MODIFIED:20241117T195543Z
UID:1348-1734195600-1734210000@jonillamedo.com
SUMMARY:KAHANI - The Ritz-Carlton\, Laguna Niguel - Dana Point\, CA
DESCRIPTION:
URL:https://jonillamedo.com/event/kahani-the-ritz-carlton-laguna-niguel-dana-point-ca-2/
LOCATION:KAHANI\, 1 Ritz Carlton Dr\, Dana Point\, CA\, 92629\, United States
END:VEVENT
BEGIN:VEVENT
DTSTART;TZID=UTC:20241207T000000
DTEND;TZID=UTC:20241207T235959
DTSTAMP:20260424T003813
CREATED:20241117T194832Z
LAST-MODIFIED:20241117T194927Z
UID:1344-1733529600-1733615999@jonillamedo.com
SUMMARY:PRIVATE EVENT
DESCRIPTION:
URL:https://jonillamedo.com/event/private-event-newport-beach-ca/
LOCATION:Newport Beach\, CA
END:VEVENT
BEGIN:VEVENT
DTSTART;TZID=UTC:20241205T000000
DTEND;TZID=UTC:20241205T235959
DTSTAMP:20260424T003813
CREATED:20241117T194527Z
LAST-MODIFIED:20241117T194527Z
UID:1341-1733356800-1733443199@jonillamedo.com
SUMMARY:Dinah Jane - Blue Note Hawaii - Honolulu\, HI
DESCRIPTION:
URL:https://jonillamedo.com/event/dinah-jane-blue-note-hawaii-honolulu-hi/
LOCATION:Blue Note Hawaii\, 2335 Kalākaua Ave\, Honolulu\, CA\, 96815\, United States
END:VEVENT
BEGIN:VEVENT
DTSTART;TZID=UTC:20241129T170000
DTEND;TZID=UTC:20241129T210000
DTSTAMP:20260424T003813
CREATED:20241117T185928Z
LAST-MODIFIED:20241117T185928Z
UID:1339-1732899600-1732914000@jonillamedo.com
SUMMARY:KAHANI - The Ritz-Carlton\, Laguna Niguel - Dana Point\, CA
DESCRIPTION:
URL:https://jonillamedo.com/event/kahani-the-ritz-carlton-laguna-niguel-dana-point-ca/
LOCATION:KAHANI\, 1 Ritz Carlton Dr\, Dana Point\, CA\, 92629\, United States
END:VEVENT
BEGIN:VEVENT
DTSTART;TZID=UTC:20241128T170000
DTEND;TZID=UTC:20241128T200000
DTSTAMP:20260424T003813
CREATED:20241117T184718Z
LAST-MODIFIED:20241117T184749Z
UID:1331-1732813200-1732824000@jonillamedo.com
SUMMARY:Pelican Hill Coliseum Grill - Pelican Hill Resort
DESCRIPTION:
URL:https://jonillamedo.com/event/pelican-hill-coliseum-grill-pelican-hill/
LOCATION:Pelican Hill Coliseum Grill\, 22701 Pelican Hill Rd\, Newport Coast\, CA\, 92657\, United States
END:VEVENT
BEGIN:VEVENT
DTSTART;TZID=UTC:20241127T000000
DTEND;TZID=UTC:20241127T235959
DTSTAMP:20260424T003813
CREATED:20241117T171545Z
LAST-MODIFIED:20241117T201150Z
UID:1329-1732665600-1732751999@jonillamedo.com
SUMMARY:Sammy Johnson + Dinah Jane - (supporting Common Kings) - Las Vegas\, NV
DESCRIPTION:
URL:https://jonillamedo.com/event/sammy-johnson-dinah-jane-supporting-common-kings/
LOCATION:Downtown Las Vegas Events Center\, 200 S 3rd St\, Las Vegas\, NV\, 89101\, United States
END:VEVENT
BEGIN:VEVENT
DTSTART;TZID=UTC:20241123T170000
DTEND;TZID=UTC:20241123T201500
DTSTAMP:20260424T003813
CREATED:20241117T165514Z
LAST-MODIFIED:20241117T165514Z
UID:1327-1732381200-1732392900@jonillamedo.com
SUMMARY:Palm Breeze Bar - Disneyland Hotel
DESCRIPTION:
URL:https://jonillamedo.com/event/palm-breeze-bar-disneyland-hotel/
LOCATION:Palm Breeze Bar\, 1150 W Magic Way\, Anaheim\, CA\, 92802\, United States
END:VEVENT
BEGIN:VEVENT
DTSTART;TZID=UTC:20241122T000000
DTEND;TZID=UTC:20241122T235959
DTSTAMP:20260424T003813
CREATED:20241117T185659Z
LAST-MODIFIED:20241117T185726Z
UID:1337-1732233600-1732319999@jonillamedo.com
SUMMARY:Dinah Jane - Blue Note Napa - Napa\, CA
DESCRIPTION:
URL:https://jonillamedo.com/event/dinah-jane-blue-note-napa-napa-ca-2/
LOCATION:Blue Note Napa\, 1030 Main St.\, Napa\, CA\, 94559\, United States
END:VEVENT
BEGIN:VEVENT
DTSTART;TZID=UTC:20241121T000000
DTEND;TZID=UTC:20241121T235959
DTSTAMP:20260424T003813
CREATED:20241117T185611Z
LAST-MODIFIED:20241117T185611Z
UID:1335-1732147200-1732233599@jonillamedo.com
SUMMARY:Dinah Jane - The Catalyst - Santa Cruz\, CA
DESCRIPTION:
URL:https://jonillamedo.com/event/dinah-jane-the-catalyst-santa-cruz-ca-2/
LOCATION:The Catalyst\, 1011 Pacific Ave\, Santa Cruz\, CA\, 95060\, United States
END:VEVENT
BEGIN:VEVENT
DTSTART;TZID=UTC:20241117T000000
DTEND;TZID=UTC:20241117T235959
DTSTAMP:20260424T003813
CREATED:20241122T163443Z
LAST-MODIFIED:20241117T164955Z
UID:1323-1731801600-1731887999@jonillamedo.com
SUMMARY:Dinah Jane - Blue Note Napa - Napa\, CA
DESCRIPTION:
URL:https://jonillamedo.com/event/dinah-jane-blue-note-napa-napa-ca/
LOCATION:Blue Note Napa\, 1030 Main St.\, Napa\, CA\, 94559\, United States
END:VEVENT
BEGIN:VEVENT
DTSTART;TZID=UTC:20241117T000000
DTEND;TZID=UTC:20241117T235959
DTSTAMP:20260424T003813
CREATED:20241121T163137Z
LAST-MODIFIED:20241117T164946Z
UID:1321-1731801600-1731887999@jonillamedo.com
SUMMARY:Dinah Jane - The Catalyst - Santa Cruz\, CA
DESCRIPTION:
URL:https://jonillamedo.com/event/dinah-jane-the-catalyst-santa-cruz-ca/
LOCATION:The Catalyst\, 1011 Pacific Ave\, Santa Cruz\, CA\, 95060\, United States
END:VEVENT
BEGIN:VEVENT
DTSTART;TZID=UTC:20241113T000000
DTEND;TZID=UTC:20241113T235959
DTSTAMP:20260424T003813
CREATED:20240806T042752Z
LAST-MODIFIED:20240806T042752Z
UID:1318-1731456000-1731542399@jonillamedo.com
SUMMARY:Sunset Sips (Members Only Event)
DESCRIPTION:
URL:https://jonillamedo.com/event/sunset-sips-members-only-event-2/
LOCATION:City Club LA\, 555 Flower St\, Los Angeles\, CA\, 90071\, United States
END:VEVENT
BEGIN:VEVENT
DTSTART;TZID=UTC:20241009T000000
DTEND;TZID=UTC:20241009T235959
DTSTAMP:20260424T003813
CREATED:20240806T042520Z
LAST-MODIFIED:20240806T042520Z
UID:1316-1728432000-1728518399@jonillamedo.com
SUMMARY:Sunset Sips (Members Only Event)
DESCRIPTION:
URL:https://jonillamedo.com/event/sunset-sips-members-only-event-3/
LOCATION:City Club LA\, 555 Flower St\, Los Angeles\, CA\, 90071\, United States
END:VEVENT
BEGIN:VEVENT
DTSTART;TZID=UTC:20241006T000000
DTEND;TZID=UTC:20241006T235959
DTSTAMP:20260424T003813
CREATED:20240806T042008Z
LAST-MODIFIED:20240806T042100Z
UID:1311-1728172800-1728259199@jonillamedo.com
SUMMARY:Sammy Johnson - Reggae Rise Up
DESCRIPTION:
URL:https://jonillamedo.com/event/sammy-johnson-reggae-rise-up/
LOCATION:Downtown Las Vegas Events Center\, 200 S 3rd St\, Las Vegas\, NV\, 89101\, United States
END:VEVENT
BEGIN:VEVENT
DTSTART;TZID=UTC:20240928T170000
DTEND;TZID=UTC:20240928T210000
DTSTAMP:20260424T003813
CREATED:20240806T041652Z
LAST-MODIFIED:20240806T041652Z
UID:1309-1727542800-1727557200@jonillamedo.com
SUMMARY:KAHANI - Ritz Carlton
DESCRIPTION:
URL:https://jonillamedo.com/event/kahani-ritz-carlton-3/
LOCATION:KAHANI\, 1 Ritz Carlton Dr\, Dana Point\, CA\, 92629\, United States
END:VEVENT
BEGIN:VEVENT
DTSTART;TZID=UTC:20240927T160000
DTEND;TZID=UTC:20240927T190000
DTSTAMP:20260424T003813
CREATED:20240614T060055Z
LAST-MODIFIED:20240612T060634Z
UID:189-1727452800-1727463600@jonillamedo.com
SUMMARY:180blu - Ritz Carlton
DESCRIPTION:
URL:https://jonillamedo.com/event/180blu-ritz-carlton-5/
LOCATION:180blu Restaurant\, 1 Ritz Carlton Dr\, Dana Point\, CA\, 92629\, United States
END:VEVENT
BEGIN:VEVENT
DTSTART;TZID=UTC:20240926T173000
DTEND;TZID=UTC:20240926T204500
DTSTAMP:20260424T003813
CREATED:20240806T041214Z
LAST-MODIFIED:20240806T041214Z
UID:1307-1727371800-1727383500@jonillamedo.com
SUMMARY:Disneyland Hotel - Palm Breeze Bar
DESCRIPTION:
URL:https://jonillamedo.com/event/disneyland-hotel-palm-breeze-bar-3/
LOCATION:Palm Breeze Bar\, 1150 W Magic Way\, Anaheim\, CA\, 92802\, United States
END:VEVENT
BEGIN:VEVENT
DTSTART;TZID=UTC:20240925T170000
DTEND;TZID=UTC:20240925T190000
DTSTAMP:20260424T003813
CREATED:20240806T041033Z
LAST-MODIFIED:20240806T041033Z
UID:1305-1727283600-1727290800@jonillamedo.com
SUMMARY:Private Event
DESCRIPTION:
URL:https://jonillamedo.com/event/private-event-3/
LOCATION:The California Club\, 538 S Flower St\, Los Angeles\, CA\, 90071\, United States
END:VEVENT
BEGIN:VEVENT
DTSTART;TZID=UTC:20240913T170000
DTEND;TZID=UTC:20240913T210000
DTSTAMP:20260424T003813
CREATED:20240806T040726Z
LAST-MODIFIED:20240806T040726Z
UID:1303-1726246800-1726261200@jonillamedo.com
SUMMARY:KAHANI - Ritz Carlton
DESCRIPTION:
URL:https://jonillamedo.com/event/kahani-ritz-carlton-2/
LOCATION:KAHANI\, 1 Ritz Carlton Dr\, Dana Point\, CA\, 92629\, United States
END:VEVENT
BEGIN:VEVENT
DTSTART;TZID=UTC:20240907T170000
DTEND;TZID=UTC:20240907T210000
DTSTAMP:20260424T003813
CREATED:20240806T040625Z
LAST-MODIFIED:20240806T040625Z
UID:1301-1725728400-1725742800@jonillamedo.com
SUMMARY:KAHANI - Ritz Carlton
DESCRIPTION:
URL:https://jonillamedo.com/event/kahani-ritz-carlton/
LOCATION:KAHANI\, 1 Ritz Carlton Dr\, Dana Point\, CA\, 92629\, United States
END:VEVENT
BEGIN:VEVENT
DTSTART;TZID=UTC:20240905T173000
DTEND;TZID=UTC:20240905T204500
DTSTAMP:20260424T003813
CREATED:20240806T040504Z
LAST-MODIFIED:20240806T040504Z
UID:1299-1725557400-1725569100@jonillamedo.com
SUMMARY:Disneyland Hotel - Palm Breeze Bar
DESCRIPTION:
URL:https://jonillamedo.com/event/disneyland-hotel-palm-breeze-bar-2/
LOCATION:Palm Breeze Bar\, 1150 W Magic Way\, Anaheim\, CA\, 92802\, United States
END:VEVENT
BEGIN:VEVENT
DTSTART;TZID=UTC:20240901T000000
DTEND;TZID=UTC:20240901T235959
DTSTAMP:20260424T003813
CREATED:20240806T040257Z
LAST-MODIFIED:20240806T040257Z
UID:1296-1725148800-1725235199@jonillamedo.com
SUMMARY:Sammy Johnson (supporting Steel Pulse with The Green) - The Pacific Amphitheatre
DESCRIPTION:
URL:https://jonillamedo.com/event/sammy-johnson-supporting-steel-pulse-with-the-green-the-pacific-amphitheatre/
LOCATION:The Pacific Amphitheatre\, 100 Fair Dr\, Costa Mesa\, CA\, 92626\, United States
END:VEVENT
BEGIN:VEVENT
DTSTART;TZID=UTC:20240831T120000
DTEND;TZID=UTC:20240831T163000
DTSTAMP:20260424T003813
CREATED:20240806T035943Z
LAST-MODIFIED:20240806T035943Z
UID:1294-1725105600-1725121800@jonillamedo.com
SUMMARY:Celebrate Soulfully - Disney's Grand Californian - Pool Deck
DESCRIPTION:
URL:https://jonillamedo.com/event/celebrate-soulfully-disneys-grand-californian-pool-deck-2/
LOCATION:Disney’s Grand Californian Hotel\, 1600 S Disneyland Dr\, Anaheim\, CA\, 92802\, United States
END:VEVENT
BEGIN:VEVENT
DTSTART;TZID=UTC:20240830T120000
DTEND;TZID=UTC:20240830T163000
DTSTAMP:20260424T003813
CREATED:20240806T035839Z
LAST-MODIFIED:20240806T035839Z
UID:1292-1725019200-1725035400@jonillamedo.com
SUMMARY:Celebrate Soulfully - Disney's Grand Californian - Pool Deck
DESCRIPTION:
URL:https://jonillamedo.com/event/celebrate-soulfully-disneys-grand-californian-pool-deck/
LOCATION:Disney’s Grand Californian Hotel\, 1600 S Disneyland Dr\, Anaheim\, CA\, 92802\, United States
END:VEVENT
BEGIN:VEVENT
DTSTART;TZID=UTC:20240827T114500
DTEND;TZID=UTC:20240827T150000
DTSTAMP:20260424T003813
CREATED:20240806T035459Z
LAST-MODIFIED:20240806T035459Z
UID:1289-1724759100-1724770800@jonillamedo.com
SUMMARY:Disneyland Hotel - Palm Breeze Bar
DESCRIPTION:
URL:https://jonillamedo.com/event/disneyland-hotel-palm-breeze-bar/
LOCATION:Palm Breeze Bar\, 1150 W Magic Way\, Anaheim\, CA\, 92802\, United States
END:VEVENT
BEGIN:VEVENT
DTSTART;TZID=UTC:20240824T000000
DTEND;TZID=UTC:20240824T235959
DTSTAMP:20260424T003813
CREATED:20240806T035045Z
LAST-MODIFIED:20240806T035045Z
UID:1286-1724457600-1724543999@jonillamedo.com
SUMMARY:Intimate Acoustic Evening with Dinah Jane - Voodoo Room at House of Blues
DESCRIPTION:
URL:https://jonillamedo.com/event/intimate-acoustic-evening-with-dinah-jane-voodoo-room-at-house-of-blues/
LOCATION:San Diego – House of Blues\, 1055 Fifth Ave\, San Diego\, CA\, 92101\, United States
END:VEVENT
BEGIN:VEVENT
DTSTART;TZID=UTC:20240823T000000
DTEND;TZID=UTC:20240823T235959
DTSTAMP:20260424T003813
CREATED:20240806T034552Z
LAST-MODIFIED:20240806T034552Z
UID:1283-1724371200-1724457599@jonillamedo.com
SUMMARY:Sammy Johnson (supporting Kolohe Kai & Iam Tongi) - Granary Live
DESCRIPTION:
URL:https://jonillamedo.com/event/sammy-johnson-supporting-kolohe-kai-iam-tongi-granary-live/
LOCATION:Granary Live\, 742 S 500 W\, Salt Lake City\, UT\, 84101\, United States
END:VEVENT
BEGIN:VEVENT
DTSTART;TZID=UTC:20240818T000000
DTEND;TZID=UTC:20240818T235959
DTSTAMP:20260424T003813
CREATED:20240501T054228Z
LAST-MODIFIED:20240806T034045Z
UID:155-1723939200-1724025599@jonillamedo.com
SUMMARY:Sammy Johnson (supporting Steel Pulse) - Quarry Amphitheater Rocklin
DESCRIPTION:
URL:https://jonillamedo.com/event/sammy-johnson-7/
LOCATION:Quarry Park Amphitheatre\, Rocklin\, CA
END:VEVENT
BEGIN:VEVENT
DTSTART;TZID=UTC:20240817T000000
DTEND;TZID=UTC:20240817T235959
DTSTAMP:20260424T003813
CREATED:20240806T033502Z
LAST-MODIFIED:20240806T033502Z
UID:1276-1723852800-1723939199@jonillamedo.com
SUMMARY:Sammy Johnson - The Catalyst
DESCRIPTION:
URL:https://jonillamedo.com/event/sammy-johnson-the-catalyst/
LOCATION:The Catalyst\, 1011 Pacific Ave\, Santa Cruz\, CA\, 95060\, United States
END:VEVENT
END:VCALENDAR